BEGIN:VCALENDAR
VERSION:2.0
PRODID:-//Nadia Shpachenko - ECPv4.9.12//NONSGML v1.0//EN
CALSCALE:GREGORIAN
METHOD:PUBLISH
X-WR-CALNAME:Nadia Shpachenko
X-ORIGINAL-URL:https://archive.nadiashpachenko.com
X-WR-CALDESC:Events for Nadia Shpachenko
BEGIN:VTIMEZONE
TZID:America/Los_Angeles
BEGIN:DAYLIGHT
TZOFFSETFROM:-0800
TZOFFSETTO:-0700
TZNAME:PDT
DTSTART:20220313T100000
END:DAYLIGHT
BEGIN:STANDARD
TZOFFSETFROM:-0700
TZOFFSETTO:-0800
TZNAME:PST
DTSTART:20221106T090000
END:STANDARD
END:VTIMEZONE
BEGIN:VEVENT
DTSTART;TZID=America/Los_Angeles:20220308T190000
DTEND;TZID=America/Los_Angeles:20220308T210000
DTSTAMP:20260425T110212
CREATED:20221014T230734Z
LAST-MODIFIED:20221014T230923Z
UID:1823-1646766000-1646773200@archive.nadiashpachenko.com
SUMMARY:A Benefit Concert For Ukraine
DESCRIPTION:A Benefit Concert For Ukraine at Chamber Music OC\, Lake Forest\, CA \nOver $45\,000 raised for Ukraine Humanitarian Aid \nYuri Ishchenko: Piano Sonata No. 6\nF. Chopin: Cello and Piano Sonata with Marek Szpakiewicz \nhttps://chambermusicoc.org/events/ukraine-benefit-concert \n
URL:https://archive.nadiashpachenko.com/event/a-benefit-concert-for-ukraine/
ATTACH;FMTTYPE=image/webp:https://archive.nadiashpachenko.com/wp-content/uploads/2022/10/3.8.22-A-Benefit-Concert-for-Ukraine-1080x608-v2.webp
END:VEVENT
END:VCALENDAR