BEGIN:VCALENDAR
VERSION:2.0
PRODID:-//Nadia Shpachenko - ECPv4.9.12//NONSGML v1.0//EN
CALSCALE:GREGORIAN
METHOD:PUBLISH
X-WR-CALNAME:Nadia Shpachenko
X-ORIGINAL-URL:https://archive.nadiashpachenko.com
X-WR-CALDESC:Events for Nadia Shpachenko
BEGIN:VTIMEZONE
TZID:America/Los_Angeles
BEGIN:DAYLIGHT
TZOFFSETFROM:-0800
TZOFFSETTO:-0700
TZNAME:PDT
DTSTART:20190310T100000
END:DAYLIGHT
BEGIN:STANDARD
TZOFFSETFROM:-0700
TZOFFSETTO:-0800
TZNAME:PST
DTSTART:20191103T090000
END:STANDARD
END:VTIMEZONE
BEGIN:VEVENT
DTSTART;TZID=America/Los_Angeles:20190314T200000
DTEND;TZID=America/Los_Angeles:20190314T220000
DTSTAMP:20260426T033140
CREATED:20190209T211619Z
LAST-MODIFIED:20190209T211619Z
UID:1472-1552593600-1552600800@archive.nadiashpachenko.com
SUMMARY:Chamber Recital with Villiers String Quartet at Cal Poly Pomona
DESCRIPTION:Chamber Recital with Villiers String Quartet \nTHE PROGRAM \nThea Musgrave (b. 1928)- String Quartet (1958) \nPeter Racine Fricker (1920-1990) – String Quartet #2 Op. 20 (1952-53) \nInquieto allegro\nMolto allegro\nAdagio\n \nAlexander Goehr (b. 1932) – String Quartet #4 Op. 52 (1990) \nFrank Bridge (1879-1941) – Piano Quintet Op. 49 in D minor (1912) \nAdagio – Allegro moderato\nAdagio ma non troppo – Allegro con brio – Adagio ma non troppo\nAllegro energico \nwith Nadia Shpachenko\, pianist \n
URL:https://archive.nadiashpachenko.com/event/chamber-recital-with-villiers-string-quartet-at-cal-poly-pomona/
LOCATION:Cal Poly Pomona University\, 3801 W Temple Ave.\, Bldg. 24\, Pomona\, CA\, 91768\, United States
ATTACH;FMTTYPE=image/jpeg:https://archive.nadiashpachenko.com/wp-content/uploads/2019/02/VQ-Oxford2-.jpeg
END:VEVENT
END:VCALENDAR