BEGIN:VCALENDAR
VERSION:2.0
PRODID:-//Nadia Shpachenko - ECPv4.9.12//NONSGML v1.0//EN
CALSCALE:GREGORIAN
METHOD:PUBLISH
X-WR-CALNAME:Nadia Shpachenko
X-ORIGINAL-URL:https://archive.nadiashpachenko.com
X-WR-CALDESC:Events for Nadia Shpachenko
BEGIN:VTIMEZONE
TZID:America/Los_Angeles
BEGIN:DAYLIGHT
TZOFFSETFROM:-0800
TZOFFSETTO:-0700
TZNAME:PDT
DTSTART:20190310T100000
END:DAYLIGHT
BEGIN:STANDARD
TZOFFSETFROM:-0700
TZOFFSETTO:-0800
TZNAME:PST
DTSTART:20191103T090000
END:STANDARD
END:VTIMEZONE
BEGIN:VEVENT
DTSTART;TZID=America/Los_Angeles:20190317T143000
DTEND;TZID=America/Los_Angeles:20190317T160000
DTSTAMP:20260426T000454
CREATED:20190306T193443Z
LAST-MODIFIED:20190306T193706Z
UID:1484-1552833000-1552838400@archive.nadiashpachenko.com
SUMMARY:Chamber Recital with Villiers String Quartet at San Diego Central Library Concert Series
DESCRIPTION:Chamber Performance with Villiers String Quartet \nWorks by William Alwyn\, Elizabeth Kelly\, Frederick Delius\, and Frank Bridge \n
URL:https://archive.nadiashpachenko.com/event/chamber-recital-with-villiers-string-quartet-at-san-diego-central-library-concert-series/
LOCATION:San Diego Central Library\, Neil Morgan Auditorium\, 330 Park Blvd.\, San Diego\, CA\, 92101\, United States
ATTACH;FMTTYPE=image/jpeg:https://archive.nadiashpachenko.com/wp-content/uploads/2019/02/VQ-Oxford2-.jpeg
END:VEVENT
END:VCALENDAR