BEGIN:VCALENDAR
VERSION:2.0
PRODID:-//Nadia Shpachenko - ECPv4.9.12//NONSGML v1.0//EN
CALSCALE:GREGORIAN
METHOD:PUBLISH
X-WR-CALNAME:Nadia Shpachenko
X-ORIGINAL-URL:https://archive.nadiashpachenko.com
X-WR-CALDESC:Events for Nadia Shpachenko
BEGIN:VTIMEZONE
TZID:America/Los_Angeles
BEGIN:DAYLIGHT
TZOFFSETFROM:-0800
TZOFFSETTO:-0700
TZNAME:PDT
DTSTART:20220313T100000
END:DAYLIGHT
BEGIN:STANDARD
TZOFFSETFROM:-0700
TZOFFSETTO:-0800
TZNAME:PST
DTSTART:20221106T090000
END:STANDARD
END:VTIMEZONE
BEGIN:VEVENT
DTSTART;TZID=America/Los_Angeles:20220713T140000
DTEND;TZID=America/Los_Angeles:20220713T160000
DTSTAMP:20260424T211757
CREATED:20221015T025728Z
LAST-MODIFIED:20221015T030610Z
UID:1848-1657720800-1657728000@archive.nadiashpachenko.com
SUMMARY:GOAT Soccer-Inspired Solo Concert at Concordia
DESCRIPTION:GOAT Soccer-Inspired Solo Concert \nhttps://www.sparkoc.com/event/ukranian-american-pianist-performs-at-concordia \n07.13.22 | Concordia University Borland-Manske Center\, Irvine\, CA \n
URL:https://archive.nadiashpachenko.com/event/goat-soccer-inspired-solo-concert-at-concordia/
LOCATION:Concordia University Irvine\, 1530 Concordia West\, Irvine\, CA\, 92612\, United States
ATTACH;FMTTYPE=image/jpeg:https://archive.nadiashpachenko.com/wp-content/uploads/2022/10/Concordia-Piano-Festival-Recitals-scaled.jpg
END:VEVENT
END:VCALENDAR