BEGIN:VCALENDAR
VERSION:2.0
PRODID:-//Nadia Shpachenko - ECPv4.9.12//NONSGML v1.0//EN
CALSCALE:GREGORIAN
METHOD:PUBLISH
X-WR-CALNAME:Nadia Shpachenko
X-ORIGINAL-URL:https://archive.nadiashpachenko.com
X-WR-CALDESC:Events for Nadia Shpachenko
BEGIN:VTIMEZONE
TZID:America/Los_Angeles
BEGIN:DAYLIGHT
TZOFFSETFROM:-0800
TZOFFSETTO:-0700
TZNAME:PDT
DTSTART:20220313T100000
END:DAYLIGHT
BEGIN:STANDARD
TZOFFSETFROM:-0700
TZOFFSETTO:-0800
TZNAME:PST
DTSTART:20221106T090000
END:STANDARD
END:VTIMEZONE
BEGIN:VEVENT
DTSTART;TZID=America/Los_Angeles:20220617T200000
DTEND;TZID=America/Los_Angeles:20220617T220000
DTSTAMP:20260425T004750
CREATED:20221014T234819Z
LAST-MODIFIED:20221015T033902Z
UID:1843-1655496000-1655503200@archive.nadiashpachenko.com
SUMMARY:Invasion Solo Concert\, 1 World Premiere\, 2 East Coast Premieres
DESCRIPTION:Invasion Solo Concert featuring music by Pulitzer Prize-winning composer Lewis Spratlan\, 1 World Premiere\, 2 East Coast Premieres at Bargemusic\, Brooklyn\, NY \nhttps://www.bargemusic.org \n
URL:https://archive.nadiashpachenko.com/event/invasion-solo-concert-1-world-premiere-2-east-coast-premieres/
LOCATION:Bargemusic\, Fulton Ferry Landing\, Brooklyn\, NY\, 11201\, United States
ATTACH;FMTTYPE=image/jpeg:https://archive.nadiashpachenko.com/wp-content/uploads/2022/10/dumbo-places-bargemusic-2x.jpg
END:VEVENT
END:VCALENDAR