BEGIN:VCALENDAR
VERSION:2.0
PRODID:-//Nadia Shpachenko - ECPv4.9.12//NONSGML v1.0//EN
CALSCALE:GREGORIAN
METHOD:PUBLISH
X-WR-CALNAME:Nadia Shpachenko
X-ORIGINAL-URL:https://archive.nadiashpachenko.com
X-WR-CALDESC:Events for Nadia Shpachenko
BEGIN:VTIMEZONE
TZID:America/Los_Angeles
BEGIN:DAYLIGHT
TZOFFSETFROM:-0800
TZOFFSETTO:-0700
TZNAME:PDT
DTSTART:20220313T100000
END:DAYLIGHT
BEGIN:STANDARD
TZOFFSETFROM:-0700
TZOFFSETTO:-0800
TZNAME:PST
DTSTART:20221106T090000
END:STANDARD
END:VTIMEZONE
BEGIN:VEVENT
DTSTART;TZID=America/Los_Angeles:20221102T120000
DTEND;TZID=America/Los_Angeles:20221102T130000
DTSTAMP:20260424T193634
CREATED:20221017T201026Z
LAST-MODIFIED:20221017T201137Z
UID:1873-1667390400-1667394000@archive.nadiashpachenko.com
SUMMARY:New Music\, Art\, and Soccer
DESCRIPTION:GRAMMY® Award winning Ukrainian-American pianist Nadia Shpachenko will present a new music workshop at UCR’s Florence Bayz Music Series on Wednesday\, November 2 at 12 pm. \nDr. Shpachenko will discuss her latest September 23\, 2022 release of world premiere recordings “Invasion: Music and Art for Ukraine\,” featuring music by American Pulitzer Prize-winning composer Lewis Spratlan and art by numerous Ukrainian artists. This recording was made in response to the tragic war in Ukraine\, with all proceeds donated to Ukraine humanitarian aid charities. It features stunning art made in response to the war and in response to all the musical works on the album\, created by artists currently living in Ukraine. Dr. Shpachenko will discuss her collaboration on this project with the composer\, musicians\, and visual artists\, focusing on the powerful connection between music\, visual arts\, and current events. \nShe will also discuss her upcoming album that she will be recording in January 2023\, featuring world premiere recordings of soccer-inspired commissioned works for piano\, voice\, cleats\, and electronics by Christopher Cerrone\, Ian Dicke\, Oliver Dubon\, Tom Flaherty\, Dana Kaufman\, David Sanford\, Adam Schoenberg\, Evan Ware\, and Pamela Z. \nThis interactive workshop will include discussions and live performances/demonstrations by Dr. Shpachenko. \n
URL:https://archive.nadiashpachenko.com/event/new-music-art-and-soccer/
LOCATION:On Zoom
ATTACH;FMTTYPE=image/jpeg:https://archive.nadiashpachenko.com/wp-content/uploads/2015/09/Yurii-Nagulko-6-Rags-scaled.jpg
END:VEVENT
END:VCALENDAR