BEGIN:VCALENDAR
VERSION:2.0
PRODID:-//Nadia Shpachenko - ECPv4.9.12//NONSGML v1.0//EN
CALSCALE:GREGORIAN
METHOD:PUBLISH
X-WR-CALNAME:Nadia Shpachenko
X-ORIGINAL-URL:https://archive.nadiashpachenko.com
X-WR-CALDESC:Events for Nadia Shpachenko
BEGIN:VTIMEZONE
TZID:America/Los_Angeles
BEGIN:DAYLIGHT
TZOFFSETFROM:-0800
TZOFFSETTO:-0700
TZNAME:PDT
DTSTART:20210314T100000
END:DAYLIGHT
BEGIN:STANDARD
TZOFFSETFROM:-0700
TZOFFSETTO:-0800
TZNAME:PST
DTSTART:20211107T090000
END:STANDARD
END:VTIMEZONE
BEGIN:VEVENT
DTSTART;VALUE=DATE:20210805
DTEND;VALUE=DATE:20210806
DTSTAMP:20260425T160523
CREATED:20221014T221433Z
LAST-MODIFIED:20221014T221745Z
UID:1811-1628121600-1628207999@archive.nadiashpachenko.com
SUMMARY:Recording Jack Van Zandt’s “A Chaos of Light and Motion"
DESCRIPTION:Recording Jack Van Zandt’s “A Chaos of Light and Motion” at Tritone Recordings\, Glendale\, CA \nhttps://whatsnew.composersedition.com \nhttp://www.talleysherwood.com \n
URL:https://archive.nadiashpachenko.com/event/recording-jack-van-zandts-a-chaos-of-light-and-motion/
ATTACH;FMTTYPE=image/jpeg:https://archive.nadiashpachenko.com/wp-content/uploads/2022/10/Chaos-Session-Photo-1.jpg
END:VEVENT
END:VCALENDAR