BEGIN:VCALENDAR
VERSION:2.0
PRODID:-//Nadia Shpachenko - ECPv4.9.12//NONSGML v1.0//EN
CALSCALE:GREGORIAN
METHOD:PUBLISH
X-WR-CALNAME:Nadia Shpachenko
X-ORIGINAL-URL:https://archive.nadiashpachenko.com
X-WR-CALDESC:Events for Nadia Shpachenko
BEGIN:VTIMEZONE
TZID:America/Los_Angeles
BEGIN:DAYLIGHT
TZOFFSETFROM:-0800
TZOFFSETTO:-0700
TZNAME:PDT
DTSTART:20220313T100000
END:DAYLIGHT
BEGIN:STANDARD
TZOFFSETFROM:-0700
TZOFFSETTO:-0800
TZNAME:PST
DTSTART:20221106T090000
END:STANDARD
END:VTIMEZONE
BEGIN:VEVENT
DTSTART;TZID=America/Los_Angeles:20220402T200000
DTEND;TZID=America/Los_Angeles:20220402T220000
DTSTAMP:20260425T040635
CREATED:20221014T234352Z
LAST-MODIFIED:20221014T234352Z
UID:1837-1648929600-1648936800@archive.nadiashpachenko.com
SUMMARY:Solo and Chamber Concert\, Invasion World Premiere
DESCRIPTION:Solo and Chamber Concert\, Invasion World Premiere\, at Chapman University\, Orange\, CA \nhttps://events.chapman.edu/86304 \n
URL:https://archive.nadiashpachenko.com/event/solo-and-chamber-concert-invasion-world-premiere/
ATTACH;FMTTYPE=image/jpeg:https://archive.nadiashpachenko.com/wp-content/uploads/2022/10/Shpachenko-Chapman-Flyer-scaled.jpg
END:VEVENT
END:VCALENDAR