BEGIN:VCALENDAR
VERSION:2.0
PRODID:-//Nadia Shpachenko - ECPv4.9.12//NONSGML v1.0//EN
CALSCALE:GREGORIAN
METHOD:PUBLISH
X-WR-CALNAME:Nadia Shpachenko
X-ORIGINAL-URL:https://archive.nadiashpachenko.com
X-WR-CALDESC:Events for Nadia Shpachenko
BEGIN:VTIMEZONE
TZID:America/Los_Angeles
BEGIN:DAYLIGHT
TZOFFSETFROM:-0800
TZOFFSETTO:-0700
TZNAME:PDT
DTSTART:20230312T100000
END:DAYLIGHT
BEGIN:STANDARD
TZOFFSETFROM:-0700
TZOFFSETTO:-0800
TZNAME:PST
DTSTART:20231105T090000
END:STANDARD
END:VTIMEZONE
BEGIN:VEVENT
DTSTART;TZID=America/Los_Angeles:20230415T193000
DTEND;TZID=America/Los_Angeles:20230415T213000
DTSTAMP:20260424T175828
CREATED:20221002T174404Z
LAST-MODIFIED:20221226T163805Z
UID:1730-1681587000-1681594200@archive.nadiashpachenko.com
SUMMARY:Solo and Chamber Concert on San Bernardino Symphony Series
DESCRIPTION:Solo and Chamber Concert on San Bernardino Symphony Series. \nConcert Listing: https://www.sanbernardinosymphony.org/ \nPROGRAM \nL. v. Beethoven: “Eroica Variations\, Op. 35” for solo piano\nDana Kaufman: “Honeyball” for solo piano\, fixed media\, soccer cleats\, and white gloves (2021) \nINTERMISSION \nAstor Piazzolla: “Three Tango Etudes” for bassoon and piano\, with Anthony Parnther\, bassoon\nScott Joplin: “Two Rags” for solo piano\nLewis Spratlan: “Three Rags” for solo piano (2018)\nLewis Spratlan: “Invasion” for piano\, alto saxophone\, horn\, trombone\, percussion\, and mandolin (2022)\, with San Bernardino Symphony players\, conducted by Anthony Parnther \n
URL:https://archive.nadiashpachenko.com/event/solo-and-chamber-concert-on-san-bernardino-symphony-series/
LOCATION:San Bernardino Symphony\, 536 W. 11th Street\, Suite 1\, San Bernardino\, CA\, 92410\, United States
ATTACH;FMTTYPE=image/jpeg:https://archive.nadiashpachenko.com/wp-content/uploads/2018/08/FR-749-Cover-HI-RES-FINAL-2022-08-03-scaled.jpg
END:VEVENT
END:VCALENDAR