BEGIN:VCALENDAR
VERSION:2.0
PRODID:-//Nadia Shpachenko - ECPv4.9.12//NONSGML v1.0//EN
CALSCALE:GREGORIAN
METHOD:PUBLISH
X-WR-CALNAME:Nadia Shpachenko
X-ORIGINAL-URL:https://archive.nadiashpachenko.com
X-WR-CALDESC:Events for Nadia Shpachenko
BEGIN:VTIMEZONE
TZID:America/Los_Angeles
BEGIN:DAYLIGHT
TZOFFSETFROM:-0800
TZOFFSETTO:-0700
TZNAME:PDT
DTSTART:20230312T100000
END:DAYLIGHT
BEGIN:STANDARD
TZOFFSETFROM:-0700
TZOFFSETTO:-0800
TZNAME:PST
DTSTART:20231105T090000
END:STANDARD
END:VTIMEZONE
BEGIN:VEVENT
DTSTART;TZID=America/Los_Angeles:20230203T193000
DTEND;TZID=America/Los_Angeles:20230203T213000
DTSTAMP:20260424T180037
CREATED:20221228T032402Z
LAST-MODIFIED:20221228T032651Z
UID:1931-1675452600-1675459800@archive.nadiashpachenko.com
SUMMARY:Solo performances at the Ussachevsky Memorial Festival of Electro-Acoustic Music
DESCRIPTION:Selected works by Tom Flaherty and Christopher Cerrone from Shpachenko’s upcoming soccer-inspired recording. \n
URL:https://archive.nadiashpachenko.com/event/solo-performances-at-the-ussachevsky-memorial-festival-of-electro-acoustic-music/
LOCATION:Bridges Hall of Music at Pomona College\, 150 East 4th Street\, Claremont\, CA\, 91711\, United States
ATTACH;FMTTYPE=image/jpeg:https://archive.nadiashpachenko.com/wp-content/uploads/2016/07/ShpachenkoRedPiano1-scaled.jpg
END:VEVENT
END:VCALENDAR