BEGIN:VCALENDAR
VERSION:2.0
PRODID:-//Nadia Shpachenko - ECPv4.9.12//NONSGML v1.0//EN
CALSCALE:GREGORIAN
METHOD:PUBLISH
X-WR-CALNAME:Nadia Shpachenko
X-ORIGINAL-URL:https://archive.nadiashpachenko.com
X-WR-CALDESC:Events for Nadia Shpachenko
BEGIN:VTIMEZONE
TZID:America/Los_Angeles
BEGIN:DAYLIGHT
TZOFFSETFROM:-0800
TZOFFSETTO:-0700
TZNAME:PDT
DTSTART:20190310T100000
END:DAYLIGHT
BEGIN:STANDARD
TZOFFSETFROM:-0700
TZOFFSETTO:-0800
TZNAME:PST
DTSTART:20191103T090000
END:STANDARD
END:VTIMEZONE
BEGIN:VEVENT
DTSTART;TZID=America/Los_Angeles:20190618T193000
DTEND;TZID=America/Los_Angeles:20190618T213000
DTSTAMP:20260425T205050
CREATED:20190517T184555Z
LAST-MODIFIED:20190517T192559Z
UID:1505-1560886200-1560893400@archive.nadiashpachenko.com
SUMMARY:"The Poetry of Places" CD Release Concert at C4NM San Francisco
DESCRIPTION:CD Release Concert for multiple GRAMMY® nominated pianist Nadia Shpachenko’s new Reference Recordings album The Poetry of Places. This program will include 5 San Francisco premieres of architecture-inspired works by Amy Beth Kirsten\, Hannah Lash\, James Matheson\, Harold Meltzer\, and Jack Van Zandt from Shpachenko’s new CD\, as well as 2 World Premieres and 2 West Coast premieres of works by Paul Chihara\, Thea Musgrave\, José Serebrier\, and Lewis Spratlan. \nConcert Listing: https://centerfornewmusic.com \nPROGRAM \nHarold Meltzer: “In Full Sail” for solo piano San Francisco Premiere\nJack Van Zandt: “Sí an Bhrú” for piano and electronics San Francisco Premiere\nHannah Lash: “Give Me Your Songs” for solo piano San Francisco Premiere\nAmy Beth Kirsten: “h.o.p.e.” for piano\, toy piano\, and voice San Francisco Premiere\nJames Matheson: “Alone\, in waters shimmering and dark” for solo piano San Francisco Premiere\nLewis Spratlan: “6 RAGS” for solo piano World Premiere \nINTERMISSION \nThea Musgrave: “Snapshots” for solo piano West Coast Premiere\nJosé Serebrier: Piano Sonata West Coast Premiere\nPaul Chihara: “Three Reveries after Beethoven” for solo piano World Premiere \n
URL:https://archive.nadiashpachenko.com/event/the-poetry-of-places-cd-release-concert-at-c4nm-san-francisco/
LOCATION:Center for New Music\, 55 Taylor Street\, San Francisco\, CA\, 94102\, United States
ATTACH;FMTTYPE=image/jpeg:https://archive.nadiashpachenko.com/wp-content/uploads/2019/02/FR-730-The-Poetry-of-Places-Cover-Lower-Res.jpg
END:VEVENT
END:VCALENDAR